BEGIN:VCALENDAR
VERSION:2.0
PRODID:-//NorthStar Academy Online Christian School - ECPv6.15.20//NONSGML v1.0//EN
CALSCALE:GREGORIAN
METHOD:PUBLISH
X-WR-CALNAME:NorthStar Academy Online Christian School
X-ORIGINAL-URL:https://www.northstar-academy.org
X-WR-CALDESC:Events for NorthStar Academy Online Christian School
REFRESH-INTERVAL;VALUE=DURATION:PT1H
X-Robots-Tag:noindex
X-PUBLISHED-TTL:PT1H
BEGIN:VTIMEZONE
TZID:America/Chicago
BEGIN:DAYLIGHT
TZOFFSETFROM:-0600
TZOFFSETTO:-0500
TZNAME:CDT
DTSTART:20250309T080000
END:DAYLIGHT
BEGIN:STANDARD
TZOFFSETFROM:-0500
TZOFFSETTO:-0600
TZNAME:CST
DTSTART:20251102T070000
END:STANDARD
BEGIN:DAYLIGHT
TZOFFSETFROM:-0600
TZOFFSETTO:-0500
TZNAME:CDT
DTSTART:20260308T080000
END:DAYLIGHT
BEGIN:STANDARD
TZOFFSETFROM:-0500
TZOFFSETTO:-0600
TZNAME:CST
DTSTART:20261101T070000
END:STANDARD
BEGIN:DAYLIGHT
TZOFFSETFROM:-0600
TZOFFSETTO:-0500
TZNAME:CDT
DTSTART:20270314T080000
END:DAYLIGHT
BEGIN:STANDARD
TZOFFSETFROM:-0500
TZOFFSETTO:-0600
TZNAME:CST
DTSTART:20271107T070000
END:STANDARD
BEGIN:DAYLIGHT
TZOFFSETFROM:-0600
TZOFFSETTO:-0500
TZNAME:CDT
DTSTART:20280312T080000
END:DAYLIGHT
BEGIN:STANDARD
TZOFFSETFROM:-0500
TZOFFSETTO:-0600
TZNAME:CST
DTSTART:20281105T070000
END:STANDARD
END:VTIMEZONE
BEGIN:VEVENT
DTSTART;VALUE=DATE:20260810
DTEND;VALUE=DATE:20260811
DTSTAMP:20260419T172235
CREATED:20260408T102028Z
LAST-MODIFIED:20260408T102028Z
UID:19097-1786320000-1786406399@www.northstar-academy.org
SUMMARY:Start Date
DESCRIPTION:
URL:https://www.northstar-academy.org/event/start-date-91/
END:VEVENT
BEGIN:VEVENT
DTSTART;VALUE=DATE:20260817
DTEND;VALUE=DATE:20260818
DTSTAMP:20260419T172235
CREATED:20260408T102052Z
LAST-MODIFIED:20260408T102052Z
UID:19102-1786924800-1787011199@www.northstar-academy.org
SUMMARY:Start Date
DESCRIPTION:
URL:https://www.northstar-academy.org/event/start-date-92/
END:VEVENT
BEGIN:VEVENT
DTSTART;VALUE=DATE:20260817
DTEND;VALUE=DATE:20260818
DTSTAMP:20260419T172235
CREATED:20260408T103710Z
LAST-MODIFIED:20260408T103710Z
UID:19188-1786924800-1787011199@www.northstar-academy.org
SUMMARY:NSA Live Semester 1 Start Date
DESCRIPTION:
URL:https://www.northstar-academy.org/event/nsa-live-semester-1-start-date-2/
END:VEVENT
BEGIN:VEVENT
DTSTART;VALUE=DATE:20260824
DTEND;VALUE=DATE:20260825
DTSTAMP:20260419T172235
CREATED:20260408T102112Z
LAST-MODIFIED:20260408T102112Z
UID:19104-1787529600-1787615999@www.northstar-academy.org
SUMMARY:Start Date
DESCRIPTION:
URL:https://www.northstar-academy.org/event/start-date-93/
END:VEVENT
BEGIN:VEVENT
DTSTART;VALUE=DATE:20260831
DTEND;VALUE=DATE:20260901
DTSTAMP:20260419T172235
CREATED:20260408T102139Z
LAST-MODIFIED:20260408T102139Z
UID:19106-1788134400-1788220799@www.northstar-academy.org
SUMMARY:Start Date
DESCRIPTION:
URL:https://www.northstar-academy.org/event/start-date-94/
END:VEVENT
BEGIN:VEVENT
DTSTART;VALUE=DATE:20260907
DTEND;VALUE=DATE:20260908
DTSTAMP:20260419T172235
CREATED:20260408T103740Z
LAST-MODIFIED:20260408T103740Z
UID:19190-1788739200-1788825599@www.northstar-academy.org
SUMMARY:All NSA Offices Closed
DESCRIPTION:
URL:https://www.northstar-academy.org/event/all-nsa-offices-closed-20/
END:VEVENT
BEGIN:VEVENT
DTSTART;VALUE=DATE:20260908
DTEND;VALUE=DATE:20260909
DTSTAMP:20260419T172235
CREATED:20260408T102203Z
LAST-MODIFIED:20260408T102203Z
UID:19108-1788825600-1788911999@www.northstar-academy.org
SUMMARY:Start Date
DESCRIPTION:
URL:https://www.northstar-academy.org/event/start-date-95/
END:VEVENT
BEGIN:VEVENT
DTSTART;VALUE=DATE:20260914
DTEND;VALUE=DATE:20260915
DTSTAMP:20260419T172235
CREATED:20260408T102225Z
LAST-MODIFIED:20260408T102225Z
UID:19110-1789344000-1789430399@www.northstar-academy.org
SUMMARY:Start Date
DESCRIPTION:
URL:https://www.northstar-academy.org/event/start-date-96/
END:VEVENT
BEGIN:VEVENT
DTSTART;VALUE=DATE:20260921
DTEND;VALUE=DATE:20260922
DTSTAMP:20260419T172235
CREATED:20260408T102246Z
LAST-MODIFIED:20260408T102246Z
UID:19112-1789948800-1790035199@www.northstar-academy.org
SUMMARY:Start Date
DESCRIPTION:
URL:https://www.northstar-academy.org/event/start-date-97/
END:VEVENT
BEGIN:VEVENT
DTSTART;VALUE=DATE:20260928
DTEND;VALUE=DATE:20260929
DTSTAMP:20260419T172235
CREATED:20260408T102310Z
LAST-MODIFIED:20260408T102310Z
UID:19114-1790553600-1790639999@www.northstar-academy.org
SUMMARY:Start Date
DESCRIPTION:
URL:https://www.northstar-academy.org/event/start-date-98/
END:VEVENT
BEGIN:VEVENT
DTSTART;VALUE=DATE:20261005
DTEND;VALUE=DATE:20261006
DTSTAMP:20260419T172235
CREATED:20260408T102333Z
LAST-MODIFIED:20260408T102333Z
UID:19116-1791158400-1791244799@www.northstar-academy.org
SUMMARY:Start Date
DESCRIPTION:
URL:https://www.northstar-academy.org/event/start-date-99/
END:VEVENT
BEGIN:VEVENT
DTSTART;VALUE=DATE:20261012
DTEND;VALUE=DATE:20261013
DTSTAMP:20260419T172235
CREATED:20260408T102356Z
LAST-MODIFIED:20260408T102356Z
UID:19118-1791763200-1791849599@www.northstar-academy.org
SUMMARY:Start Date
DESCRIPTION:
URL:https://www.northstar-academy.org/event/start-date-100/
END:VEVENT
BEGIN:VEVENT
DTSTART;VALUE=DATE:20261019
DTEND;VALUE=DATE:20261020
DTSTAMP:20260419T172235
CREATED:20260408T102418Z
LAST-MODIFIED:20260408T102418Z
UID:19120-1792368000-1792454399@www.northstar-academy.org
SUMMARY:Start Date
DESCRIPTION:
URL:https://www.northstar-academy.org/event/start-date-101/
END:VEVENT
BEGIN:VEVENT
DTSTART;VALUE=DATE:20261026
DTEND;VALUE=DATE:20261027
DTSTAMP:20260419T172235
CREATED:20260408T102436Z
LAST-MODIFIED:20260408T102436Z
UID:19122-1792972800-1793059199@www.northstar-academy.org
SUMMARY:Start Date
DESCRIPTION:
URL:https://www.northstar-academy.org/event/start-date-102/
END:VEVENT
BEGIN:VEVENT
DTSTART;VALUE=DATE:20261102
DTEND;VALUE=DATE:20261103
DTSTAMP:20260419T172235
CREATED:20260408T102458Z
LAST-MODIFIED:20260408T102458Z
UID:19124-1793577600-1793663999@www.northstar-academy.org
SUMMARY:Start Date
DESCRIPTION:
URL:https://www.northstar-academy.org/event/start-date-103/
END:VEVENT
BEGIN:VEVENT
DTSTART;VALUE=DATE:20261109
DTEND;VALUE=DATE:20261110
DTSTAMP:20260419T172235
CREATED:20260408T102521Z
LAST-MODIFIED:20260408T102521Z
UID:19126-1794182400-1794268799@www.northstar-academy.org
SUMMARY:Start Date
DESCRIPTION:
URL:https://www.northstar-academy.org/event/start-date-104/
END:VEVENT
BEGIN:VEVENT
DTSTART;VALUE=DATE:20261116
DTEND;VALUE=DATE:20261117
DTSTAMP:20260419T172235
CREATED:20260408T102540Z
LAST-MODIFIED:20260408T102540Z
UID:19128-1794787200-1794873599@www.northstar-academy.org
SUMMARY:Start Date
DESCRIPTION:
URL:https://www.northstar-academy.org/event/start-date-105/
END:VEVENT
BEGIN:VEVENT
DTSTART;VALUE=DATE:20261123
DTEND;VALUE=DATE:20261128
DTSTAMP:20260419T172235
CREATED:20260408T103840Z
LAST-MODIFIED:20260408T103840Z
UID:19192-1795392000-1795823999@www.northstar-academy.org
SUMMARY:NSA Live Fall Break
DESCRIPTION:
URL:https://www.northstar-academy.org/event/nsa-live-fall-break-2/
END:VEVENT
BEGIN:VEVENT
DTSTART;VALUE=DATE:20261125
DTEND;VALUE=DATE:20261128
DTSTAMP:20260419T172235
CREATED:20260408T103903Z
LAST-MODIFIED:20260408T103903Z
UID:19194-1795564800-1795823999@www.northstar-academy.org
SUMMARY:All NSA Offices Closed
DESCRIPTION:
URL:https://www.northstar-academy.org/event/all-nsa-offices-closed-21/
END:VEVENT
BEGIN:VEVENT
DTSTART;VALUE=DATE:20261130
DTEND;VALUE=DATE:20261201
DTSTAMP:20260419T172235
CREATED:20260408T102600Z
LAST-MODIFIED:20260408T102600Z
UID:19130-1795996800-1796083199@www.northstar-academy.org
SUMMARY:Start Date
DESCRIPTION:
URL:https://www.northstar-academy.org/event/start-date-106/
END:VEVENT
BEGIN:VEVENT
DTSTART;VALUE=DATE:20261207
DTEND;VALUE=DATE:20261208
DTSTAMP:20260419T172235
CREATED:20260408T102625Z
LAST-MODIFIED:20260408T102625Z
UID:19132-1796601600-1796687999@www.northstar-academy.org
SUMMARY:Start Date
DESCRIPTION:
URL:https://www.northstar-academy.org/event/start-date-107/
END:VEVENT
BEGIN:VEVENT
DTSTART;VALUE=DATE:20261214
DTEND;VALUE=DATE:20261215
DTSTAMP:20260419T172235
CREATED:20260408T102646Z
LAST-MODIFIED:20260408T102646Z
UID:19134-1797206400-1797292799@www.northstar-academy.org
SUMMARY:Start Date
DESCRIPTION:
URL:https://www.northstar-academy.org/event/start-date-108/
END:VEVENT
BEGIN:VEVENT
DTSTART;VALUE=DATE:20261221
DTEND;VALUE=DATE:20261226
DTSTAMP:20260419T172235
CREATED:20260408T103949Z
LAST-MODIFIED:20260408T103949Z
UID:19196-1797811200-1798243199@www.northstar-academy.org
SUMMARY:All NSA Offices Closed
DESCRIPTION:
URL:https://www.northstar-academy.org/event/all-nsa-offices-closed-22/
END:VEVENT
BEGIN:VEVENT
DTSTART;VALUE=DATE:20261221
DTEND;VALUE=DATE:20261226
DTSTAMP:20260419T172235
CREATED:20260408T105408Z
LAST-MODIFIED:20260408T105408Z
UID:19221-1797811200-1798243199@www.northstar-academy.org
SUMMARY:NSA Live Christmas Break
DESCRIPTION:
URL:https://www.northstar-academy.org/event/nsa-live-christmas-break/
END:VEVENT
BEGIN:VEVENT
DTSTART;VALUE=DATE:20261228
DTEND;VALUE=DATE:20270102
DTSTAMP:20260419T172235
CREATED:20260408T104022Z
LAST-MODIFIED:20260408T104022Z
UID:19198-1798416000-1798847999@www.northstar-academy.org
SUMMARY:All NSA Offices Closed
DESCRIPTION:
URL:https://www.northstar-academy.org/event/all-nsa-offices-closed-23/
END:VEVENT
BEGIN:VEVENT
DTSTART;VALUE=DATE:20261228
DTEND;VALUE=DATE:20270102
DTSTAMP:20260419T172235
CREATED:20260408T105430Z
LAST-MODIFIED:20260408T105430Z
UID:19223-1798416000-1798847999@www.northstar-academy.org
SUMMARY:NSA Live Christmas Break
DESCRIPTION:
URL:https://www.northstar-academy.org/event/nsa-live-christmas-break-2/
END:VEVENT
BEGIN:VEVENT
DTSTART;VALUE=DATE:20270103
DTEND;VALUE=DATE:20270104
DTSTAMP:20260419T172235
CREATED:20260408T104056Z
LAST-MODIFIED:20260408T104112Z
UID:19200-1798934400-1799020799@www.northstar-academy.org
SUMMARY:NSA Live Semester 1 End Date
DESCRIPTION:
URL:https://www.northstar-academy.org/event/nsa-live-semester-1-ends/
END:VEVENT
BEGIN:VEVENT
DTSTART;VALUE=DATE:20270104
DTEND;VALUE=DATE:20270105
DTSTAMP:20260419T172235
CREATED:20260408T102708Z
LAST-MODIFIED:20260408T102708Z
UID:19136-1799020800-1799107199@www.northstar-academy.org
SUMMARY:Start Date
DESCRIPTION:
URL:https://www.northstar-academy.org/event/start-date-109/
END:VEVENT
BEGIN:VEVENT
DTSTART;VALUE=DATE:20270104
DTEND;VALUE=DATE:20270105
DTSTAMP:20260419T172235
CREATED:20260408T104141Z
LAST-MODIFIED:20260408T104141Z
UID:19203-1799020800-1799107199@www.northstar-academy.org
SUMMARY:NSA Live Semester 2 Start Date
DESCRIPTION:
URL:https://www.northstar-academy.org/event/nsa-live-semester-2-start-date-2/
END:VEVENT
BEGIN:VEVENT
DTSTART;VALUE=DATE:20270111
DTEND;VALUE=DATE:20270112
DTSTAMP:20260419T172235
CREATED:20260408T102728Z
LAST-MODIFIED:20260408T102728Z
UID:19138-1799625600-1799711999@www.northstar-academy.org
SUMMARY:Start Date
DESCRIPTION:
URL:https://www.northstar-academy.org/event/start-date-110/
END:VEVENT
END:VCALENDAR