BEGIN:VCALENDAR
VERSION:2.0
PRODID:-//NorthStar Academy Online Christian School - ECPv6.15.20//NONSGML v1.0//EN
CALSCALE:GREGORIAN
METHOD:PUBLISH
X-ORIGINAL-URL:https://www.northstar-academy.org
X-WR-CALDESC:Events for NorthStar Academy Online Christian School
REFRESH-INTERVAL;VALUE=DURATION:PT1H
X-Robots-Tag:noindex
X-PUBLISHED-TTL:PT1H
BEGIN:VTIMEZONE
TZID:America/Chicago
BEGIN:DAYLIGHT
TZOFFSETFROM:-0600
TZOFFSETTO:-0500
TZNAME:CDT
DTSTART:20260308T080000
END:DAYLIGHT
BEGIN:STANDARD
TZOFFSETFROM:-0500
TZOFFSETTO:-0600
TZNAME:CST
DTSTART:20261101T070000
END:STANDARD
BEGIN:DAYLIGHT
TZOFFSETFROM:-0600
TZOFFSETTO:-0500
TZNAME:CDT
DTSTART:20270314T080000
END:DAYLIGHT
BEGIN:STANDARD
TZOFFSETFROM:-0500
TZOFFSETTO:-0600
TZNAME:CST
DTSTART:20271107T070000
END:STANDARD
BEGIN:DAYLIGHT
TZOFFSETFROM:-0600
TZOFFSETTO:-0500
TZNAME:CDT
DTSTART:20280312T080000
END:DAYLIGHT
BEGIN:STANDARD
TZOFFSETFROM:-0500
TZOFFSETTO:-0600
TZNAME:CST
DTSTART:20281105T070000
END:STANDARD
END:VTIMEZONE
BEGIN:VEVENT
DTSTART;VALUE=DATE:20270705
DTEND;VALUE=DATE:20270706
DTSTAMP:20260420T020016
CREATED:20260408T104443Z
LAST-MODIFIED:20260408T104443Z
UID:19217-1814745600-1814831999@www.northstar-academy.org
SUMMARY:All NSA Offices Closed
DESCRIPTION:
URL:https://www.northstar-academy.org/event/all-nsa-offices-closed-28/
END:VEVENT
BEGIN:VEVENT
DTSTART;VALUE=DATE:20270705
DTEND;VALUE=DATE:20270710
DTSTAMP:20260420T020016
CREATED:20260408T104704Z
LAST-MODIFIED:20260408T104704Z
UID:19219-1814745600-1815177599@www.northstar-academy.org
SUMMARY:All Teacher's Offices Closed
DESCRIPTION:
URL:https://www.northstar-academy.org/event/all-teachers-offices-closed/
END:VEVENT
END:VCALENDAR